BEGIN:VCALENDAR
VERSION:2.0
PRODID:-//RFV Praest e.V. - ECPv6.15.18//NONSGML v1.0//EN
CALSCALE:GREGORIAN
METHOD:PUBLISH
X-WR-CALNAME:RFV Praest e.V.
X-ORIGINAL-URL:https://rv-praest.de
X-WR-CALDESC:Veranstaltungen für RFV Praest e.V.
REFRESH-INTERVAL;VALUE=DURATION:PT1H
X-Robots-Tag:noindex
X-PUBLISHED-TTL:PT1H
BEGIN:VTIMEZONE
TZID:Europe/Berlin
BEGIN:DAYLIGHT
TZOFFSETFROM:+0100
TZOFFSETTO:+0200
TZNAME:CEST
DTSTART:20240331T010000
END:DAYLIGHT
BEGIN:STANDARD
TZOFFSETFROM:+0200
TZOFFSETTO:+0100
TZNAME:CET
DTSTART:20241027T010000
END:STANDARD
BEGIN:DAYLIGHT
TZOFFSETFROM:+0100
TZOFFSETTO:+0200
TZNAME:CEST
DTSTART:20250330T010000
END:DAYLIGHT
BEGIN:STANDARD
TZOFFSETFROM:+0200
TZOFFSETTO:+0100
TZNAME:CET
DTSTART:20251026T010000
END:STANDARD
BEGIN:DAYLIGHT
TZOFFSETFROM:+0100
TZOFFSETTO:+0200
TZNAME:CEST
DTSTART:20260329T010000
END:DAYLIGHT
BEGIN:STANDARD
TZOFFSETFROM:+0200
TZOFFSETTO:+0100
TZNAME:CET
DTSTART:20261025T010000
END:STANDARD
END:VTIMEZONE
BEGIN:VEVENT
DTSTART;TZID=Europe/Berlin:20251115T093000
DTEND;TZID=Europe/Berlin:20251115T113000
DTSTAMP:20260421T103339
CREATED:20251107T091004Z
LAST-MODIFIED:20251107T091007Z
UID:11413-1763199000-1763206200@rv-praest.de
SUMMARY:Arbeitsdienst 15.11.25
DESCRIPTION:arbeitsdienst\n\n\n\n\nHecke schneiden\n\n\n\nGrünschnitt entfernen
URL:https://rv-praest.de/event/arbeitsdienst-15-11-25/
LOCATION:Reit- und Fahrverein Praest e.V.\, Bahnweg 200\, Emmerich-Praest\, NRW\, 46446\, Deutschland
CATEGORIES:Arbeitsdienst
END:VEVENT
BEGIN:VEVENT
DTSTART;TZID=Europe/Berlin:20251129T093000
DTEND;TZID=Europe/Berlin:20251129T140000
DTSTAMP:20260421T103339
CREATED:20251019T172020Z
LAST-MODIFIED:20251107T090903Z
UID:11375-1764408600-1764424800@rv-praest.de
SUMMARY:Arbeitsdienst 29.11.25
DESCRIPTION:arbeitsdienst\n\n\n\n\ndiv. Reinigungen\n\n\n\nAufräumen der Anlage\n\n\n\nVorbereitungen für den Weihnachtsmarkt am 2. Advent\n\n\n\nreinigen der Dachrinne
URL:https://rv-praest.de/event/arbeitsdienst-29-11-25/
LOCATION:Reit- und Fahrverein Praest e.V.\, Bahnweg 200\, Emmerich-Praest\, NRW\, 46446\, Deutschland
CATEGORIES:Arbeitsdienst
END:VEVENT
END:VCALENDAR